BEGIN:VCALENDAR
VERSION:2.0
PRODID:-//ChamberMaster//Event Calendar 2.0//EN
METHOD:PUBLISH
X-PUBLISHED-TTL:P3D
REFRESH-INTERVAL:P3D
CALSCALE:GREGORIAN
BEGIN:VEVENT
DTSTART:20251029T140000Z
DTEND:20251029T160000Z
X-MICROSOFT-CDO-ALLDAYEVENT:FALSE
SUMMARY:Annual Membership and Board of Directors meeting
DESCRIPTION:
X-ALT-DESC;FMTTYPE=text/html:
LOCATION:This is Zooom\, and members only.
UID:e.3113.2350
SEQUENCE:3
DTSTAMP:20260420T003950Z
URL:https://business.somervillechamber.org/events/details/annual-membership-and-board-of-directors-meeting-2350
END:VEVENT

END:VCALENDAR
