BEGIN:VCALENDAR
VERSION:2.0
PRODID:-//ChamberMaster//Event Calendar 2.0//EN
METHOD:PUBLISH
X-PUBLISHED-TTL:P3D
REFRESH-INTERVAL:P3D
CALSCALE:GREGORIAN
BEGIN:VEVENT
DTSTART:20250811T210000Z
DTEND:20250811T230000Z
X-MICROSOFT-CDO-ALLDAYEVENT:FALSE
SUMMARY:Business After Hours: Cocolee
DESCRIPTION:LIVE IN PERSON networking\, free appetizers\, & cash bar in a fun\, relaxed\n\nenvironment that is one of Somerville's leading Dining & Nightlife destinations! \n\nThis event is sponsored by The Goods and Micah Gorin at GRA INC.
X-ALT-DESC;FMTTYPE=text/html:<span style="font-size:16px\;">LIVE IN PERSON networking\, free appetizers\,&nbsp\;&amp\; cash bar in a fun\, relaxed<br />\nenvironment that is one of Somerville&#39\;s leading&nbsp\;Dining &amp\; Nightlife destinations!&nbsp\;<br />\nThis event is sponsored by The Goods and Micah Gorin at GRA INC.</span>
LOCATION:Cocolee 661 Assembly Row\, Somerville\, MA 02145
UID:e.3113.2340
SEQUENCE:3
DTSTAMP:20260419T170243Z
URL:https://business.somervillechamber.org/events/details/business-after-hours-cocolee-2340
END:VEVENT

END:VCALENDAR
