BEGIN:VCALENDAR
VERSION:2.0
PRODID:-//ChamberMaster//Event Calendar 2.0//EN
METHOD:PUBLISH
X-PUBLISHED-TTL:P3D
REFRESH-INTERVAL:P3D
CALSCALE:GREGORIAN
BEGIN:VEVENT
DTSTART:20250910T210000Z
DTEND:20250910T230000Z
X-MICROSOFT-CDO-ALLDAYEVENT:FALSE
SUMMARY:Business After Hours: Five Horses Tavern
DESCRIPTION:LIVE IN PERSON networking\, free appetizers\, & cash bar in a fun\, relaxed environment that is one of Somerville's leading Dining & Nightlife destinations! \n\nThis event is sponsored by Republic Fitness. All attendees will receive a complimentary day pass (see details below)\n\n\n\n      Complimentary Day Pass & Tours at Republic Fitness!\n\nBefore heading to the social at Five Horses\, swing by Republic Fitness for a complimentary day pass and a guided tour of the facility!\n\n \n\nIf you can't fit in a workout on the day of the social\, no worries   your free pass will be valid throughout the month of September.\n\n \n\nCome check out the space\, meet the team\, and see what Republic Fitness has to offer. Corporate Discounts and Memberships available upon request.\n\n \n\nLocated in Davis Square\, our premium fitness experience offers state-of-the-art cardio and strength equipment\, an expansive turf\, top-notch classes\, award-winning personal trainers\, and our Restore Spa\, featuring cold plunge\, sauna\, steam\, whirlpool and spa showers.
X-ALT-DESC;FMTTYPE=text/html:LIVE IN PERSON networking\, free appetizers\, &amp\;&nbsp\;cash bar in a fun\, relaxed environment&nbsp\;that is one of Somerville&#39\;s leading&nbsp\;Dining &amp\; Nightlife destinations!&nbsp\;<br />\nThis event is sponsored by Republic Fitness. All attendees will receive a complimentary day pass (see details below)<br />\n<br />\n&#127947\;&#65039\;&zwj\;&#9792\;&#65039\;&nbsp\;<strong>Complimentary Day Pass &amp\; Tours at Republic Fitness!</strong><br />\nBefore heading to the social at Five Horses\, swing by Republic Fitness for a&nbsp\;complimentary day pass&nbsp\;and a guided tour of the facility!<br />\n&nbsp\;<br />\nIf you can&rsquo\;t fit in a workout on the day of the social\, no worries &mdash\; your&nbsp\;free pass will be valid throughout the month of September.<br />\n&nbsp\;<br />\nCome check out the space\, meet the team\, and see what Republic Fitness has to offer.&nbsp\;Corporate Discounts and Memberships available upon request.<br />\n&nbsp\;<br />\nLocated in Davis Square\, our premium fitness experience offers state-of-the-art cardio and strength equipment\, an expansive turf\, top-notch classes\, award-winning personal trainers\, and our Restore Spa\, featuring cold plunge\, sauna\, steam\, whirlpool and spa showers.<br />\n<br />\n&nbsp\;
LOCATION:Five Horses Tavern 400 Highland Ave Somerville\, MA 02144
UID:e.3113.2337
SEQUENCE:3
DTSTAMP:20260419T184137Z
URL:https://business.somervillechamber.org/events/details/business-after-hours-five-horses-tavern-2337
END:VEVENT

END:VCALENDAR
