BEGIN:VCALENDAR
VERSION:2.0
PRODID:-//ChamberMaster//Event Calendar 2.0//EN
METHOD:PUBLISH
X-PUBLISHED-TTL:P3D
REFRESH-INTERVAL:P3D
CALSCALE:GREGORIAN
BEGIN:VEVENT
DTSTART:20251008T210000Z
DTEND:20251008T230000Z
X-MICROSOFT-CDO-ALLDAYEVENT:FALSE
SUMMARY:Business After Hours: Josephine
DESCRIPTION:LIVE IN PERSON networking\, free appetizers\, cash bar in a fun\, relaxed environment that is one of Somerville s leading Dining Nightlife destinations! This event by Naveo Credit Union.\n\nParking: 493 Somerville Avenue\, Somerville\, MA 02143\n\nAfter 5:00pm\, limited number of spaces
X-ALT-DESC;FMTTYPE=text/html:<span style="font-size:20px\;">&nbsp\;LIVE IN PERSON networking\, free appetizers\, cash bar in a fun\, relaxed environment that is one of Somerville s leading Dining Nightlife destinations! This event <span style="background:white\;">by </span><span style="border:1pt none windowtext\;padding:0in\;">Naveo Credit Union.<br />\nParking: 493 Somerville Avenue\, Somerville\, MA 02143<br />\nAfter 5:00pm\, limited number of spaces&nbsp\;</span></span><br />\n&nbsp\;
LOCATION:Josephine 515 Somerville Ave\, Somerville\, MA 02143
UID:e.3113.2344
SEQUENCE:3
DTSTAMP:20260420T003653Z
URL:https://business.somervillechamber.org/events/details/business-after-hours-josephine-2344
END:VEVENT

END:VCALENDAR
