BEGIN:VCALENDAR
VERSION:2.0
PRODID:-//ChamberMaster//Event Calendar 2.0//EN
METHOD:PUBLISH
X-PUBLISHED-TTL:P3D
REFRESH-INTERVAL:P3D
CALSCALE:GREGORIAN
BEGIN:VEVENT
DTSTART:20251113T223000Z
DTEND:20251114T013000Z
X-MICROSOFT-CDO-ALLDAYEVENT:FALSE
SUMMARY:Chamber Annual Dinner & Powderhouse Awards
DESCRIPTION:You are cordially invited to the Somerville Chamber of Commerce 79th Annual Dinner & Powderhouse Awards with keynote address by Steve Buckley\, Columnist for The Athletic\, and including the John W. Fitzgerald Lifetime Achievement Award and Powderhouse Awards presentations.   \n\n\n\nCongratulations to the 2025 Powderhouse Award Recipients\n\nJohn W. Fitzgerald Lifetime Achievement Award: Joseph A. Curtatone\n\nBusiness Neighbor of the Year Award: The Goods\n\nDistinguished Service to Great Somerville Award: Adam Dash \n\nDistinguished Service to the Somerville Chamber Award: Rocco DiRico\, Tufts University\n\nExcellence in Dining and Nightlife Award: The Neighborhood Restaurant\n\nExcellence in Economic Development Award: Bristol Myers Squibb\n\nExcellence in Public Service Award: Thomas Bent\, Bent Electrical Contractors\n\nInnovation Award: Ultragenyx\n\nNon-Profit of the Year Award: Second Chances\n\nSmall Business of the Year Award: EventThem\n\nSponsors:\n\nMajor Presenting Sponsor \n\nTufts University\n\nMajor Presenting Sponsor\n\nBunker Hill Community College \n\nMajor Presenting Sponsor\n\nVerizon\n\nProduction Services Sponsor\n\nVDA\n\nAward Sponsor\n\nMiddlesex Federal Savings\n\nAward Sponsor \n\nSomerville YMCA\n\nCenterpiece Sponsor \n\nBrick Marketing\n\n\n\nPlease note that photographs will be taken throughout the event. These will be used for marketing and publicity in our publications\, on our website and in social media or in any third-party publication.\n\nIf you have any questions\, please contact wendy.dalwin@somervillechamber.org
X-ALT-DESC;FMTTYPE=text/html:<p><br />\n<span style="font-size:16px\;">You are cordially invited to the Somerville Chamber of Commerce 79th&nbsp\;Annual Dinner &amp\; Powderhouse Awards with keynote address by Steve Buckley\, C</span><span data-olk-copy-source="MessageBody" style="font-family: Aptos\, sans-serif\; font-size: 12pt\; color: rgb(36\, 36\, 36)\;">olumnist for The Athletic\,</span><span style="font-size:16px\;">&nbsp\;and including the John W. Fitzgerald Lifetime Achievement Award and Powderhouse Awards presentations.&nbsp\; &nbsp\;</span><br />\n<br />\n<span style="font-size:16px\;"><strong>Congratulations to the 2025 Powderhouse Award Recipients</strong><br />\nJohn W. Fitzgerald Lifetime Achievement Award:<span style="background:white\;"> <strong>Joseph A. Curtatone</strong></span><br />\nBusiness Neighbor of the Year Award: <strong>The Goods</strong><br />\nDistinguished Service to Great Somerville Award: <strong>Adam Dash&nbsp\;</strong></span><br />\n<span style="font-size:16px\;"><span style="background:white\;">Distinguished Service to the Somerville Chamber Award:</span><strong>&nbsp\;<span style="background:white\;">Rocco DiRico\, Tufts University</span></strong><br />\nExcellence in Dining and Nightlife Award: <strong>The Neighborhood Restaurant</strong><br />\nExcellence in Economic Development Award: <strong>Bristol Myers Squibb</strong><br />\nExcellence in Public Service Award: <strong>Thomas Bent\, Bent Electrical Contractors</strong><br />\nInnovation Award: <strong>Ultragenyx</strong><br />\nNon-Profit of the Year Award: <strong>Second Chances</strong><br />\nSmall Business of the Year Award: <strong>EventThem</strong></span><br />\n<strong><span style="font-size:16px\;">Sponsors:</span></strong><br />\n<span style="font-size:16px\;">Major Presenting Sponsor&nbsp\;<br />\n<strong>Tufts University</strong><br />\nMajor Presenting Sponsor<br />\n<strong>Bunker Hill Community College&nbsp\;</strong></span><br />\n<span style="color: rgb(51\, 51\, 51)\; font-family: sans-serif\, Arial\, Verdana\, &quot\;Trebuchet MS&quot\;\; font-size: 16px\; background-color: rgb(255\, 255\, 255)\;">Major Presenting Sponsor</span><br style="color: rgb(51\, 51\, 51)\; font-family: sans-serif\, Arial\, Verdana\, &quot\;Trebuchet MS&quot\;\; font-size: 16px\; background-color: rgb(255\, 255\, 255)\;" />\n<span style="font-size: 16px\;"><b>Verizon</b></span><br />\n<span style="font-size: 16px\;">Production Services Sponsor</span><br style="color: rgb(51\, 51\, 51)\; font-family: sans-serif\, Arial\, Verdana\, &quot\;Trebuchet MS&quot\;\; font-size: 16px\; background-color: rgb(255\, 255\, 255)\;" />\n<span style="font-family: sans-serif\, Arial\, Verdana\, &quot\;Trebuchet MS&quot\;\; background-color: rgb(255\, 255\, 255)\; font-size: 16px\;"><b>VDA</b></span><br />\n<span style="font-size:16px\;">Award Sponsor<br />\n<strong>Middlesex Federal Savings</strong><br />\nAward&nbsp\;Sponsor&nbsp\;<br />\n<strong>Somerville YMCA</strong></span><br />\n<span background-color:="" font-size:="" style="color: rgb(51\, 51\, 51)\; font-family: sans-serif\, Arial\, Verdana\, " trebuchet="">Centerpiece&nbsp\;</span><span background-color:="" font-size:="" style="color: rgb(51\, 51\, 51)\; font-family: sans-serif\, Arial\, Verdana\, " trebuchet="">Sponsor&nbsp\;</span><br background-color:="" font-size:="" style="color: rgb(51\, 51\, 51)\; font-family: sans-serif\, Arial\, Verdana\, " trebuchet="" />\n<span style="font-size:16px\;"><strong>Brick Marketing</strong></span><br />\n<br />\n<span background:="" font-size:="" style="color: rgb(51\, 51\, 51)\; font-family: sans-serif\, Arial\, Verdana\, " trebuchet=""><span style="color: rgb(31\, 31\, 31)\;"><span style="font-size: 12pt\;">Please note that photographs will be taken throughout the event. These will be used for marketing and publicity in our publications\, on our website and in social media or in any third-party publication<span style="font-size: 12px\;">.</span></span></span></span><br font-size:="" style="color: rgb(51\, 51\, 51)\; font-family: sans-serif\, Arial\, Verdana\, " trebuchet="" />\n<span font-size:="" style="color: rgb(51\, 51\, 51)\; font-family: sans-serif\, Arial\, Verdana\, " trebuchet=""><span style="font-family: arial\;">If you have any questions\, please contact&nbsp\;<a href="mailto:wendy.dalwin@somervillechamber.org" style="color: rgb(7\, 130\, 193)\;">wendy.dalwin@somervillechamber.org</a></span></span></p>\n
LOCATION:Holiday Inn Boston-Cambridge Area 30 Washington Street Somerville\, MA 02145
UID:e.3113.2341
SEQUENCE:3
DTSTAMP:20260420T020659Z
URL:https://business.somervillechamber.org/events/details/chamber-annual-dinner-powderhouse-awards-2341
END:VEVENT

END:VCALENDAR
