BEGIN:VCALENDAR
VERSION:2.0
PRODID:-//ChamberMaster//Event Calendar 2.0//EN
METHOD:PUBLISH
X-PUBLISHED-TTL:P3D
REFRESH-INTERVAL:P3D
CALSCALE:GREGORIAN
BEGIN:VEVENT
DTSTART:20250924T140000Z
DTEND:20250924T160000Z
X-MICROSOFT-CDO-ALLDAYEVENT:FALSE
SUMMARY:Chamber Board of Directors
DESCRIPTION:Monthly Chamber Board meeting (Chamber members & invited guests only).
X-ALT-DESC;FMTTYPE=text/html:Monthly Chamber Board meeting (Chamber members &amp\; invited guests only).&nbsp\;
LOCATION:
UID:e.3113.404
SEQUENCE:3
DTSTAMP:20260419T200927Z
URL:https://business.somervillechamber.org/events/details/chamber-board-of-directors-09-24-2025-404
END:VEVENT

END:VCALENDAR
