BEGIN:VCALENDAR
VERSION:2.0
PRODID:-//ChamberMaster//Event Calendar 2.0//EN
METHOD:PUBLISH
X-PUBLISHED-TTL:P3D
REFRESH-INTERVAL:P3D
CALSCALE:GREGORIAN
BEGIN:VEVENT
DTSTART:20250820T160000Z
DTEND:20250820T170000Z
X-MICROSOFT-CDO-ALLDAYEVENT:FALSE
SUMMARY:Chamber Executive Committee
DESCRIPTION:The Executive Committee (Board Members Only) reviews the finances\, administration\, and committee activity and serves as the personnel committee and the strategic planning committee. Meeting monthly\, the Committee prepares the agenda of the Board of Directors meeting.
X-ALT-DESC;FMTTYPE=text/html:<span style="background-color: transparent\; color: rgb(113\, 113\, 113)\; font-family: &quot\;Helvetica Neue&quot\;\, Arial\, Helvetica\, sans-serif\; font-size: 15px\; font-variant-numeric: normal\; font-variant-east-asian: normal\;">The Executive Committee (Board Members Only) reviews the finances\, administration\, and committee activity and serves as the personnel committee and the strategic planning committee. Meeting monthly\, the Committee prepares the agenda of the Board of Directors meeting.</span>
LOCATION:Virtual
UID:e.3113.1559
SEQUENCE:3
DTSTAMP:20260419T170500Z
URL:https://business.somervillechamber.org/events/details/chamber-executive-committee-08-20-2025-1559
END:VEVENT

END:VCALENDAR
