BEGIN:VCALENDAR
VERSION:2.0
PRODID:-//ChamberMaster//Event Calendar 2.0//EN
METHOD:PUBLISH
X-PUBLISHED-TTL:P3D
REFRESH-INTERVAL:P3D
CALSCALE:GREGORIAN
BEGIN:VEVENT
DTSTART:20250930T123000Z
DTEND:20250930T180000Z
X-MICROSOFT-CDO-ALLDAYEVENT:FALSE
SUMMARY:Golf Classic - 2025
DESCRIPTION:Somerville Chamber of Commerce Golf Classic tournament is a Scramble Format.  Contests/prizes include: Top Three Teams\; Closest to the Pin for Men/Women\; Longest Drive for Men/Women.  Complimentary gift package to each golfer. Continental Breakfast at registration.  Immediately following golf a luncheon will be served with awards ceremony\, and raffles. Early entry is encouraged.  Tournament is limited to the first 144 golfers.   \n Sponsorships Available:\n\n Gold Sponsor: $1500\n\n 2 complimentary golf tickets\n\n Logo in tournament agenda\n\n Printed T-Sign\n\n Display table at registration\n\n Silver Sponsor: $1000\n\n Logo in tournament agenda\n\n Printed T-Sign\n\n Display table at registration\n\n Bronze Sponsor: $250\n\n Logo in tournament agenda\n\n Printed T-Sign\n\nTee Sponsor: $175\n\nPrinted T-Sign\n\n \n\n\nSee the 2025 Somerville Chamber Golf Classic BROCHURE for golfing\, sponsorship\, prize\, raffle opportunities and for directions!
X-ALT-DESC;FMTTYPE=text/html:Somerville Chamber of Commerce Golf Classic tournament is a Scramble Format.&nbsp\; Contests/prizes include: Top Three Teams\; Closest to the Pin for Men/Women\; Longest Drive for Men/Women.&nbsp\; Complimentary gift package to each golfer.&nbsp\;Continental Breakfast at registration.&nbsp\; Immediately following golf a luncheon will be served with awards ceremony\, and raffles. Early entry is encouraged.&nbsp\; Tournament is limited to the first 144 golfers.&nbsp\; &nbsp\;\n<div>&nbsp\;Sponsorships Available:<br />\n&nbsp\;<strong>Gold Sponsor: $1500</strong><br />\n&nbsp\;2 complimentary golf tickets<br />\n&nbsp\;Logo in tournament agenda<br />\n&nbsp\;Printed T-Sign<br />\n&nbsp\;Display table at registration<br />\n&nbsp\;<strong>Silver Sponsor: $1000</strong><br />\n&nbsp\;Logo in tournament agenda<br />\n&nbsp\;Printed T-Sign<br />\n&nbsp\;Display table at registration<br />\n&nbsp\;<strong>Bronze&nbsp\;Sponsor: $250</strong><br />\n&nbsp\;Logo in tournament agenda<br />\n&nbsp\;Printed T-Sign<br />\n<strong>Tee Sponsor: $175</strong><br />\nPrinted T-Sign<br />\n&nbsp\;</div>\n<br />\nSee the 2025 Somerville Chamber Golf Classic <a href="https://chambermaster.blob.core.windows.net/userfiles/UserFiles/chambers/3113/File/GolfOuting-Brochure2025.pdf" target="_blank">BROCHURE</a><a href="https://chambermaster.blob.core.windows.net/userfiles/UserFiles/chambers/3113/File/GolfOuting-Brochure2025.pdf" target="_blank">&nbsp\;</a>for golfing\, sponsorship\, prize\, raffle opportunities and for directions!
LOCATION:Sandy Burr Country Club 130 Cochituate Road Wayland MA 01778 (508) 358-7211
UID:e.3113.2069
SEQUENCE:3
DTSTAMP:20260419T230509Z
URL:https://business.somervillechamber.org/events/details/golf-classic-2025-2069
END:VEVENT

END:VCALENDAR
