BEGIN:VCALENDAR
VERSION:2.0
PRODID:-//ChamberMaster//Event Calendar 2.0//EN
METHOD:PUBLISH
X-PUBLISHED-TTL:P3D
REFRESH-INTERVAL:P3D
CALSCALE:GREGORIAN
BEGIN:VEVENT
DTSTART:20250802T190000Z
DTEND:20250802T213000Z
X-MICROSOFT-CDO-ALLDAYEVENT:FALSE
SUMMARY:Somer Fest 2025
DESCRIPTION:The fifth annual iteration of the free performance art festival occurs on Saturday\, August 2nd from 3:00 PM to 5:30 PM at Seven Hills Park behind the Davis Square MBTA station. Pull up to enjoy live music\, games and more!\n\nThis festival is funded in part by amazing partners at the Somerville Arts Council.\n\nPlease register here  https://somerfest.eventbrite.com/
X-ALT-DESC;FMTTYPE=text/html:<p style="margin: 0px\; padding: 10px 0px 0px\; box-sizing: border-box\; font-size: 16px\; line-height: 1.5rem\; color: rgb(111\, 114\, 135)\; font-family: &quot\;Neue Plak&quot\;\, -apple-system\, BlinkMacSystemFont\, Roboto\, &quot\;Helvetica Neue&quot\;\, Helvetica\, Tahoma\, Arial\, sans-serif\; background-color: rgb(255\, 255\, 255)\;">The fifth annual iteration of the free performance art festival occurs on Saturday\, August 2nd from 3:00 PM to 5:30 PM at Seven Hills Park behind the Davis Square MBTA station. Pull up to enjoy live music\, games and more!</p>\n\n<p style="margin: 0px\; padding: 10px 0px 0px\; box-sizing: border-box\; font-size: 16px\; line-height: 1.5rem\; color: rgb(111\, 114\, 135)\; font-family: &quot\;Neue Plak&quot\;\, -apple-system\, BlinkMacSystemFont\, Roboto\, &quot\;Helvetica Neue&quot\;\, Helvetica\, Tahoma\, Arial\, sans-serif\; background-color: rgb(255\, 255\, 255)\;">This festival is funded in part by amazing partners at the&nbsp\;<a data-msys-clicktrack="0" href="https://somervilleartscouncil.org/" rel="nofollow noopener noreferrer" style="background-color: transparent\; color: rgb(54\, 89\, 227)\; box-sizing: border-box\; padding-top: 0px\;" target="_blank" title="https://somervilleartscouncil.org">Somerville Arts Council</a>.<br />\nPlease register here&nbsp\;<span style="color: rgb(36\, 36\, 36)\; font-family: &quot\;Segoe UI&quot\;\, &quot\;Segoe UI Web (West European)&quot\;\, -apple-system\, BlinkMacSystemFont\, Roboto\, &quot\;Helvetica Neue&quot\;\, sans-serif\; font-size: 15px\; background-color: rgb(255\, 255\, 255)\;">&nbsp\;</span><a data-auth="NotApplicable" data-linkindex="0" href="https://somerfest.eventbrite.com/" style="border: 0px\; font-variant-numeric: inherit\; font-variant-east-asian: inherit\; font-variant-alternates: inherit\; font-variant-position: inherit\; font-variant-emoji: inherit\; font-stretch: inherit\; font-size: 15px\; line-height: inherit\; font-family: &quot\;Segoe UI&quot\;\, &quot\;Segoe UI Web (West European)&quot\;\, -apple-system\, BlinkMacSystemFont\, Roboto\, &quot\;Helvetica Neue&quot\;\, sans-serif\; font-optical-sizing: inherit\; font-size-adjust: inherit\; font-kerning: inherit\; font-feature-settings: inherit\; font-variation-settings: inherit\; margin: 0px\; padding: 0px\; vertical-align: baseline\; outline: 0px\; background-color: rgb(255\, 255\, 255)\;" title="https://somerfest.eventbrite.com/">https://somerfest.eventbrite.com/</a></p>\n
LOCATION:Seven Hills Park\, Somerville\, MA 02144
UID:e.3113.2336
SEQUENCE:3
DTSTAMP:20260419T170331Z
URL:https://business.somervillechamber.org/events/details/somer-fest-2025-2336
END:VEVENT

END:VCALENDAR
