BEGIN:VCALENDAR
VERSION:2.0
PRODID:-//ChamberMaster//Event Calendar 2.0//EN
METHOD:PUBLISH
X-PUBLISHED-TTL:P3D
REFRESH-INTERVAL:P3D
CALSCALE:GREGORIAN
BEGIN:VEVENT
DTSTART:20251027T130000Z
DTEND:20251027T150000Z
X-MICROSOFT-CDO-ALLDAYEVENT:FALSE
SUMMARY:Somerville Chamber of Commerce: Meet the Candidates Mayoral and City Council Candidates
DESCRIPTION:The Somerville Chamber of Commerce invites you to meet the Mayoral and City Council candidates meet and greet on October 27 at 9:00am-11:00am. Learn more about the candidates and meet professionals from a variety of companies.\n\n\n\nMayor Candidates\n\nJake Wilson\n\nWillie Burnley Jr\n\nCity Councilor At- Large Candidates\n\nBen Wheeler\n\nHolly Simione\n\nJack Perenick\n\nJonathan Link\n\nKristen Strezo\n\nMarianne Walles\n\nScott Istvan\n\nWilfred Mbah\n\nWard 7 Candidates\n\nEmily E. Hardt\n\nWilbert Pineda\n\n\n\nAgenda\n\n9:00am-9:30am: Networking and Welcoming Remarks from Tom Bent\, Founder Bent Electrical Contractors Inc.\n\n9:30am-10:30 am: Remarks from the Mayoral and City Council Candidates\n\n10:30am-11:00am: Networking and event concludes\n\nAbout The Somerville Chamber of Commerce\n\nThe Somerville Chamber of Commerce champions economic growth and prosperity across the City of Somerville\, Massachusetts. We serve as the voice of business in Somerville\, working with our members and partners to strengthen our community by advocating for pro-growth policies\, developing\, and attracting a first-rate worker and enhancing the quality of life for all people and communities.\n\nSomerville Chamber of Commerce Catalyst Circle is a group of economic and through leaders who make contributions to enable a financially solvent agenda. From the governance of the organization\, to business and economic issues work\, to individual case work\, members play an integral role in the vitality of the chamber.
X-ALT-DESC;FMTTYPE=text/html:<p>&nbsp\;<span style="background-color:white\;">The Somerville Chamber of Commerce invites you to meet the Mayoral and City Council candidates meet and greet on</span><span style="background-color:white\;">&nbsp\;October 27 at 9:00am-11:00am. Learn more about the candidates and meet professionals from a variety of companies.</span><br />\n<br />\n<strong>Mayor Candidates</strong><br />\nJake Wilson<br />\nWillie Burnley Jr<br />\n<strong>City Councilor At-&nbsp\;Large Candidates</strong><br />\nBen Wheeler<br />\nHolly Simione<br />\nJack Perenick<br />\nJonathan Link<br />\nKristen Strezo<br />\nMarianne Walles<br />\nScott Istvan<br />\nWilfred Mbah<br />\n<strong>Ward 7 Candidates</strong><br />\nEmily E. Hardt<br />\nWilbert Pineda<br />\n<br />\n<strong>Agenda</strong><br />\n9:00am-9:30am: Networking and Welcoming Remarks from Tom Bent\, <em><span style="background:white\;">Founder Bent Electrical Contractors Inc<strong>.</strong></span></em><br />\n9:30am-10:30 am: Remarks from the <span style="background:white\;">M</span><em><span style="background:white\;">ayoral and City Council Candidates</span></em><br />\n10:30am-11:00am: Networking and event concludes</p>\n\n<p><strong><span style="background:white\;">About The Somerville Chamber of Commerce</span></strong><br />\n<span style="background:#FEFEFE\;">The Somerville Chamber of Commerce champions economic growth and prosperity across the City of Somerville\, Massachusetts. We serve as the voice of business in Somerville\, working with our members and partners to strengthen our community by advocating for pro-growth policies\, developing\, and attracting a first-rate worker and enhancing the quality of life for all people and communities.</span><br />\nSomerville Chamber of Commerce Catalyst Circle is a group of economic and through leaders who make contributions to enable a financially solvent agenda. <span style="background:white\;">From the governance of the organization\, to business and economic issues work\, to individual case work\, members play an integral role in the vitality of the chamber.</span><br />\n&nbsp\;</p>\n
LOCATION:10 Prospect Street\, Somerville\, Massachusetts 02143 7th floor. Left off the elevator\, right down the hall and the amenity space is at the end of the hallway on the right. Parking: Parking will be validated for attendees. The garage address is 20 Prospect but is on the Bennett Ct. side of the building.
UID:e.3113.2348
SEQUENCE:3
DTSTAMP:20260420T004705Z
URL:https://business.somervillechamber.org/events/details/somerville-chamber-of-commerce-meet-the-candidates-mayoral-and-city-council-candidates-2348
END:VEVENT

END:VCALENDAR
