BEGIN:VCALENDAR
VERSION:2.0
PRODID:-//ChamberMaster//Event Calendar 2.0//EN
METHOD:PUBLISH
X-PUBLISHED-TTL:P3D
REFRESH-INTERVAL:P3D
CALSCALE:GREGORIAN
BEGIN:VEVENT
DTSTART:20250404T220000Z
DTEND:20250405T000000Z
X-MICROSOFT-CDO-ALLDAYEVENT:FALSE
SUMMARY:Somerville YIMBY: Social meetup\, Remnant Brewing\, Bow Market.
DESCRIPTION:Social meetup\, Remnant Brewing\, Bow Market
X-ALT-DESC;FMTTYPE=text/html:<!--StartFragment--><span data-olk-copy-source="MessageBody">Social meetup\, Remnant Brewing\, Bow Market</span><!--EndFragment-->
LOCATION:
UID:e.3113.2330
SEQUENCE:3
DTSTAMP:20260419T143440Z
URL:https://business.somervillechamber.org/events/details/somerville-yimby-social-meetup-remnant-brewing-bow-market-2330
END:VEVENT

END:VCALENDAR
