BEGIN:VCALENDAR
VERSION:2.0
PRODID:-//ChamberMaster//Event Calendar 2.0//EN
METHOD:PUBLISH
X-PUBLISHED-TTL:P3D
REFRESH-INTERVAL:P3D
CALSCALE:GREGORIAN
BEGIN:VEVENT
DTSTART:20250611T210000Z
DTEND:20250612T000000Z
X-MICROSOFT-CDO-ALLDAYEVENT:FALSE
SUMMARY:Taste of Somerville Food & Arts Festival
DESCRIPTION:Somerville's premier culinary and creative arts festival is back for 2025! Join us for 50+ food and beverage vendors\, local artisans\, live entertainment\, and more - all in the heart of Union Square at Boynton Yards. Proceeds benefitting the Somerville Homeless Coalition. Learn more and buy tickets.
X-ALT-DESC;FMTTYPE=text/html:<span style="color: rgb(68\, 68\, 68)\; font-family: Poppins\, sans-serif\; font-size: 16px\; text-align: center\; background-color: rgba(255\, 255\, 255\, 0.85)\;">Somerville&#39\;s premier culinary and creative arts festival is back for 2025! Join us for 50+ food and beverage vendors\, local artisans\, live entertainment\, and more - all in the heart of Union Square at Boynton Yards. Proceeds benefitting the Somerville Homeless Coalition.&nbsp\;</span><span style="box-sizing: border-box\; color: rgb(68\, 68\, 68)\; font-family: Poppins\, sans-serif\; font-size: 16px\; text-align: center\; background-color: rgba(255\, 255\, 255\, 0.85)\; text-decoration-line: underline\;"><a href="https://www.tasteofsomerville.org/" style="box-sizing: border-box\; background-color: transparent\; color: rgb(68\, 68\, 68)\; text-decoration-line: none\;"><strong style="box-sizing: border-box\; font-weight: bold\;">Learn more and buy tickets.</strong>&nbsp\;</a></span>
LOCATION:Boynton Yards 101 South Street Somerville MA\, 02143
UID:e.3113.2332
SEQUENCE:3
DTSTAMP:20260419T142730Z
URL:https://business.somervillechamber.org/events/details/taste-of-somerville-food-arts-festival-2332
END:VEVENT

END:VCALENDAR
